BEGIN:VCALENDAR
VERSION:2.0
PRODID:-//Alabama Lifespan Respite Resource Network - ECPv6.15.18//NONSGML v1.0//EN
CALSCALE:GREGORIAN
METHOD:PUBLISH
X-ORIGINAL-URL:https://alabamarespite.org/es
X-WR-CALDESC:Eventos para Alabama Lifespan Respite Resource Network
REFRESH-INTERVAL;VALUE=DURATION:PT1H
X-Robots-Tag:noindex
X-PUBLISHED-TTL:PT1H
BEGIN:VTIMEZONE
TZID:America/Chicago
BEGIN:DAYLIGHT
TZOFFSETFROM:-0600
TZOFFSETTO:-0500
TZNAME:CDT
DTSTART:20240310T080000
END:DAYLIGHT
BEGIN:STANDARD
TZOFFSETFROM:-0500
TZOFFSETTO:-0600
TZNAME:CST
DTSTART:20241103T070000
END:STANDARD
BEGIN:DAYLIGHT
TZOFFSETFROM:-0600
TZOFFSETTO:-0500
TZNAME:CDT
DTSTART:20250309T080000
END:DAYLIGHT
BEGIN:STANDARD
TZOFFSETFROM:-0500
TZOFFSETTO:-0600
TZNAME:CST
DTSTART:20251102T070000
END:STANDARD
BEGIN:DAYLIGHT
TZOFFSETFROM:-0600
TZOFFSETTO:-0500
TZNAME:CDT
DTSTART:20260308T080000
END:DAYLIGHT
BEGIN:STANDARD
TZOFFSETFROM:-0500
TZOFFSETTO:-0600
TZNAME:CST
DTSTART:20261101T070000
END:STANDARD
BEGIN:DAYLIGHT
TZOFFSETFROM:-0600
TZOFFSETTO:-0500
TZNAME:CDT
DTSTART:20270314T080000
END:DAYLIGHT
BEGIN:STANDARD
TZOFFSETFROM:-0500
TZOFFSETTO:-0600
TZNAME:CST
DTSTART:20271107T070000
END:STANDARD
END:VTIMEZONE
BEGIN:VEVENT
DTSTART;VALUE=DATE:20250218
DTEND;VALUE=DATE:20260219
DTSTAMP:20260420T064428
CREATED:20250218T165355Z
LAST-MODIFIED:20250218T165355Z
UID:4471-1739836800-1771459199@alabamarespite.org
SUMMARY:Free Job Training with ACCS Innovation Center
DESCRIPTION:Community Health Worker: https://innovation.accs.edu/courses/community-health-worker/ \nMental Health Worker: https://innovation.accs.edu/courses/mental-health-worker/ 
URL:https://alabamarespite.org/es/event/free-job-training-with-accs-innovation-center/
LOCATION:Online
END:VEVENT
BEGIN:VEVENT
DTSTART;TZID=America/Chicago:20260206T100000
DTEND;TZID=America/Chicago:20260206T110000
DTSTAMP:20260420T064428
CREATED:20260106T220413Z
LAST-MODIFIED:20260106T220413Z
UID:5013-1770372000-1770375600@alabamarespite.org
SUMMARY:Caregiving Is a Job: Understanding Scope\, Limits\, and Role Creep 
DESCRIPTION:Caregiving often begins informally but quickly expands into a complex role with increasing responsibilities. This session explores \nhow caregiving responsibilities grow over time\, why role creep \nhappens\, and how understanding scope and limits can reduce unnecessary strain. \nFriday\, February 6th @10:00 am via Zoom  \nRegister here:  \nhttps://forms.gle/dPmCZrDWuxeXPaLP6
URL:https://alabamarespite.org/es/event/caregiving-is-a-job-understanding-scope-limits-and-role-creep/
LOCATION:Zoom
ORGANIZER;CN="Alabama Respite":MAILTO:jstang@ucphuntsville.org
END:VEVENT
END:VCALENDAR