BEGIN:VCALENDAR
VERSION:2.0
PRODID:-//Alabama Lifespan Respite Resource Network - ECPv6.15.18//NONSGML v1.0//EN
CALSCALE:GREGORIAN
METHOD:PUBLISH
X-ORIGINAL-URL:https://alabamarespite.org/es
X-WR-CALDESC:Eventos para Alabama Lifespan Respite Resource Network
REFRESH-INTERVAL;VALUE=DURATION:PT1H
X-Robots-Tag:noindex
X-PUBLISHED-TTL:PT1H
BEGIN:VTIMEZONE
TZID:America/Chicago
BEGIN:DAYLIGHT
TZOFFSETFROM:-0600
TZOFFSETTO:-0500
TZNAME:CDT
DTSTART:20250309T080000
END:DAYLIGHT
BEGIN:STANDARD
TZOFFSETFROM:-0500
TZOFFSETTO:-0600
TZNAME:CST
DTSTART:20251102T070000
END:STANDARD
BEGIN:DAYLIGHT
TZOFFSETFROM:-0600
TZOFFSETTO:-0500
TZNAME:CDT
DTSTART:20260308T080000
END:DAYLIGHT
BEGIN:STANDARD
TZOFFSETFROM:-0500
TZOFFSETTO:-0600
TZNAME:CST
DTSTART:20261101T070000
END:STANDARD
BEGIN:DAYLIGHT
TZOFFSETFROM:-0600
TZOFFSETTO:-0500
TZNAME:CDT
DTSTART:20270314T080000
END:DAYLIGHT
BEGIN:STANDARD
TZOFFSETFROM:-0500
TZOFFSETTO:-0600
TZNAME:CST
DTSTART:20271107T070000
END:STANDARD
END:VTIMEZONE
BEGIN:VEVENT
DTSTART;TZID=America/Chicago:20260327T100000
DTEND;TZID=America/Chicago:20260327T110000
DTSTAMP:20260422T161931
CREATED:20260325T190359Z
LAST-MODIFIED:20260325T190421Z
UID:5093-1774605600-1774609200@alabamarespite.org
SUMMARY:Voting Rights for Individuals with Disabilities
DESCRIPTION:Register HERE: https://auburn.zoom.us/meeting/register/88_CXSQdRBKwIaLp15UEbA#/registration
URL:https://alabamarespite.org/es/event/5093/
LOCATION:Online
END:VEVENT
END:VCALENDAR